BEGIN:VCALENDAR
VERSION:2.0
PRODID:-//147.100.242.14//NONSGML kigkonsult.se iCalcreator 2.41.92//
CALSCALE:GREGORIAN
UID:35613866-3237-4434-a263-346637363435
X-WR-TIMEZONE:Europe/Paris
BEGIN:VTIMEZONE
TZID:Europe/Paris
TZUNTIL:20230326T010000Z
BEGIN:STANDARD
TZNAME:CET
DTSTART:20201025T030000
TZOFFSETFROM:+0200
TZOFFSETTO:+0100
RDATE:20211031T030000
RDATE:20221030T030000
END:STANDARD
BEGIN:DAYLIGHT
TZNAME:CEST
DTSTART:20210328T020000
TZOFFSETFROM:+0100
TZOFFSETTO:+0200
RDATE:20220327T020000
END:DAYLIGHT
END:VTIMEZONE
BEGIN:VEVENT
UID:63313464-3338-4431-a134-643837396262
DTSTAMP:20260420T012403Z
DTSTART:20210705T113000Z
DTEND:20210706T143000Z
LOCATION:en virtuel
SUMMARY:Journées d'Animation Scientifique FéRI 2021
URL:https://jas-feri-2021.journees.inrae.fr
END:VEVENT
END:VCALENDAR
